BEGIN:VCALENDAR
VERSION:2.0
PRODID:-//destination.one//NONSGML destination.meta API//DE
X-WR-CALDESC:A calendar powered by destination.meta
X-WR-CALNAME:bad-aibling Kalender via destination.meta
BEGIN:VEVENT
CATEGORIES:Konzert
DESCRIPTION:Bireli Lagrene liver erleben - beim Internationalen Gitarrenfes
 tival Saitensprünge 2026\n\nmehr Informationen unter http://pages.destinat
 ion.one/de/bad-aibling/streaming/detail/Event/e_101233525/bireli-lagrene-2
 6-gitarrenfestival-saitenspr-nge
DTEND;TZID=Europe/Berlin:20261107T213000
DTSTAMP:20260424T090638Z
DTSTART;TZID=Europe/Berlin:20261107T200000
GEO:47.861409;12.009269
LOCATION:Kurhaus Bad Aibling - Das Veranstaltungshaus\, Wilhelm-Leibl-Platz
  1\, Bad Aibling
ORGANIZER;CN=AIB-KUR GmbH & Co. KG:mailto:info@aib-kur.de
PRIORITY:4
SEQUENCE:0
SUMMARY:Bireli Lagrene - 26. Gitarrenfestival Saitensprünge
UID:e_101233525_iv0
URL:http://pages.destination.one/de/bad-aibling/streaming/detail/Event/e_10
 1233525/bireli-lagrene-26-gitarrenfestival-saitenspr-nge
END:VEVENT
BEGIN:VTIMEZONE
TZID:Europe/Berlin
X-LIC-LOCATION:Europe/Berlin
BEGIN:DAYLIGHT
DTSTART:19700329T020000
RRULE:FREQ=YEARLY;BYDAY=-1SU;BYMONTH=3
TZNAME:CEST
TZOFFSETFROM:+0100
TZOFFSETTO:+0200
END:DAYLIGHT
BEGIN:STANDARD
DTSTART:19701025T030000
RRULE:FREQ=YEARLY;BYDAY=-1SU;BYMONTH=10
TZNAME:CET
TZOFFSETFROM:+0200
TZOFFSETTO:+0100
END:STANDARD
END:VTIMEZONE
END:VCALENDAR
