BEGIN:VCALENDAR
VERSION:2.0
PRODID:-//destination.one//NONSGML destination.meta API//DE
X-WR-CALDESC:A calendar powered by destination.meta
X-WR-CALNAME:bad-aibling Kalender via destination.meta
BEGIN:VEVENT
CATEGORIES:Sonstige
CATEGORIES:Konzert
DESCRIPTION:Musik und Worte für die Seele - mit Kirchenmusiker Konrad Liebs
 cher\n\nmehr Informationen unter http://pages.destination.one/de/bad-aibli
 ng/streaming/detail/Event/e_101005184/musik-und-worte-f-r-die-seele
DTEND;TZID=Europe/Berlin:20250521T193000
DTSTAMP:20260424T090641Z
DTSTART;TZID=Europe/Berlin:20250521T190000
GEO:47.866174;12.011672
LOCATION:Stadtpfarrkirche Mariä Himmelfahrt\, Hofberg 2\, Bad Aibling
SEQUENCE:0
SUMMARY:Musik und Worte für die Seele
UID:e_101005184_iv0
URL:http://pages.destination.one/de/bad-aibling/streaming/detail/Event/e_10
 1005184/musik-und-worte-f-r-die-seele
END:VEVENT
BEGIN:VEVENT
CATEGORIES:Sonstige
CATEGORIES:Konzert
DESCRIPTION:Musik und Worte für die Seele - mit Kirchenmusiker Konrad Liebs
 cher\n\nmehr Informationen unter http://pages.destination.one/de/bad-aibli
 ng/streaming/detail/Event/e_101005184/musik-und-worte-f-r-die-seele
DTEND;TZID=Europe/Berlin:20250625T193000
DTSTAMP:20260424T090641Z
DTSTART;TZID=Europe/Berlin:20250625T190000
GEO:47.866174;12.011672
LOCATION:Stadtpfarrkirche Mariä Himmelfahrt\, Hofberg 2\, Bad Aibling
SEQUENCE:0
SUMMARY:Musik und Worte für die Seele
UID:e_101005184_iv1
URL:http://pages.destination.one/de/bad-aibling/streaming/detail/Event/e_10
 1005184/musik-und-worte-f-r-die-seele
END:VEVENT
BEGIN:VEVENT
CATEGORIES:Sonstige
CATEGORIES:Konzert
DESCRIPTION:Musik und Worte für die Seele - mit Kirchenmusiker Konrad Liebs
 cher\n\nmehr Informationen unter http://pages.destination.one/de/bad-aibli
 ng/streaming/detail/Event/e_101005184/musik-und-worte-f-r-die-seele
DTEND;TZID=Europe/Berlin:20250709T193000
DTSTAMP:20260424T090641Z
DTSTART;TZID=Europe/Berlin:20250709T190000
GEO:47.866174;12.011672
LOCATION:Stadtpfarrkirche Mariä Himmelfahrt\, Hofberg 2\, Bad Aibling
SEQUENCE:0
SUMMARY:Musik und Worte für die Seele
UID:e_101005184_iv2
URL:http://pages.destination.one/de/bad-aibling/streaming/detail/Event/e_10
 1005184/musik-und-worte-f-r-die-seele
END:VEVENT
BEGIN:VEVENT
CATEGORIES:Sonstige
CATEGORIES:Konzert
DESCRIPTION:Musik und Worte für die Seele - mit Kirchenmusiker Konrad Liebs
 cher\n\nmehr Informationen unter http://pages.destination.one/de/bad-aibli
 ng/streaming/detail/Event/e_101005184/musik-und-worte-f-r-die-seele
DTEND;TZID=Europe/Berlin:20250813T193000
DTSTAMP:20260424T090641Z
DTSTART;TZID=Europe/Berlin:20250813T190000
GEO:47.866174;12.011672
LOCATION:Stadtpfarrkirche Mariä Himmelfahrt\, Hofberg 2\, Bad Aibling
SEQUENCE:0
SUMMARY:Musik und Worte für die Seele
UID:e_101005184_iv3
URL:http://pages.destination.one/de/bad-aibling/streaming/detail/Event/e_10
 1005184/musik-und-worte-f-r-die-seele
END:VEVENT
BEGIN:VEVENT
CATEGORIES:Sonstige
CATEGORIES:Konzert
DESCRIPTION:Musik und Worte für die Seele - mit Kirchenmusiker Konrad Liebs
 cher\n\nmehr Informationen unter http://pages.destination.one/de/bad-aibli
 ng/streaming/detail/Event/e_101005184/musik-und-worte-f-r-die-seele
DTEND;TZID=Europe/Berlin:20250924T193000
DTSTAMP:20260424T090641Z
DTSTART;TZID=Europe/Berlin:20250924T190000
GEO:47.866174;12.011672
LOCATION:Stadtpfarrkirche Mariä Himmelfahrt\, Hofberg 2\, Bad Aibling
SEQUENCE:0
SUMMARY:Musik und Worte für die Seele
UID:e_101005184_iv4
URL:http://pages.destination.one/de/bad-aibling/streaming/detail/Event/e_10
 1005184/musik-und-worte-f-r-die-seele
END:VEVENT
BEGIN:VEVENT
CATEGORIES:Sonstige
CATEGORIES:Konzert
DESCRIPTION:Musik und Worte für die Seele - mit Kirchenmusiker Konrad Liebs
 cher\n\nmehr Informationen unter http://pages.destination.one/de/bad-aibli
 ng/streaming/detail/Event/e_101005184/musik-und-worte-f-r-die-seele
DTEND;TZID=Europe/Berlin:20260610T193000
DTSTAMP:20260424T090641Z
DTSTART;TZID=Europe/Berlin:20260610T190000
GEO:47.866174;12.011672
LOCATION:Stadtpfarrkirche Mariä Himmelfahrt\, Hofberg 2\, Bad Aibling
SEQUENCE:0
SUMMARY:Musik und Worte für die Seele
UID:e_101005184_iv5
URL:http://pages.destination.one/de/bad-aibling/streaming/detail/Event/e_10
 1005184/musik-und-worte-f-r-die-seele
END:VEVENT
BEGIN:VEVENT
CATEGORIES:Sonstige
CATEGORIES:Konzert
DESCRIPTION:Musik und Worte für die Seele - mit Kirchenmusiker Konrad Liebs
 cher\n\nmehr Informationen unter http://pages.destination.one/de/bad-aibli
 ng/streaming/detail/Event/e_101005184/musik-und-worte-f-r-die-seele
DTEND;TZID=Europe/Berlin:20260708T193000
DTSTAMP:20260424T090641Z
DTSTART;TZID=Europe/Berlin:20260708T190000
GEO:47.866174;12.011672
LOCATION:Stadtpfarrkirche Mariä Himmelfahrt\, Hofberg 2\, Bad Aibling
SEQUENCE:0
SUMMARY:Musik und Worte für die Seele
UID:e_101005184_iv6
URL:http://pages.destination.one/de/bad-aibling/streaming/detail/Event/e_10
 1005184/musik-und-worte-f-r-die-seele
END:VEVENT
BEGIN:VEVENT
CATEGORIES:Sonstige
CATEGORIES:Konzert
DESCRIPTION:Musik und Worte für die Seele - mit Kirchenmusiker Konrad Liebs
 cher\n\nmehr Informationen unter http://pages.destination.one/de/bad-aibli
 ng/streaming/detail/Event/e_101005184/musik-und-worte-f-r-die-seele
DTEND;TZID=Europe/Berlin:20260812T193000
DTSTAMP:20260424T090641Z
DTSTART;TZID=Europe/Berlin:20260812T190000
GEO:47.866174;12.011672
LOCATION:Stadtpfarrkirche Mariä Himmelfahrt\, Hofberg 2\, Bad Aibling
SEQUENCE:0
SUMMARY:Musik und Worte für die Seele
UID:e_101005184_iv7
URL:http://pages.destination.one/de/bad-aibling/streaming/detail/Event/e_10
 1005184/musik-und-worte-f-r-die-seele
END:VEVENT
BEGIN:VEVENT
CATEGORIES:Sonstige
CATEGORIES:Konzert
DESCRIPTION:Musik und Worte für die Seele - mit Kirchenmusiker Konrad Liebs
 cher\n\nmehr Informationen unter http://pages.destination.one/de/bad-aibli
 ng/streaming/detail/Event/e_101005184/musik-und-worte-f-r-die-seele
DTEND;TZID=Europe/Berlin:20260923T193000
DTSTAMP:20260424T090641Z
DTSTART;TZID=Europe/Berlin:20260923T190000
GEO:47.866174;12.011672
LOCATION:Stadtpfarrkirche Mariä Himmelfahrt\, Hofberg 2\, Bad Aibling
SEQUENCE:0
SUMMARY:Musik und Worte für die Seele
UID:e_101005184_iv8
URL:http://pages.destination.one/de/bad-aibling/streaming/detail/Event/e_10
 1005184/musik-und-worte-f-r-die-seele
END:VEVENT
BEGIN:VTIMEZONE
TZID:Europe/Berlin
X-LIC-LOCATION:Europe/Berlin
BEGIN:DAYLIGHT
DTSTART:19700329T020000
RRULE:FREQ=YEARLY;BYDAY=-1SU;BYMONTH=3
TZNAME:CEST
TZOFFSETFROM:+0100
TZOFFSETTO:+0200
END:DAYLIGHT
BEGIN:STANDARD
DTSTART:19701025T030000
RRULE:FREQ=YEARLY;BYDAY=-1SU;BYMONTH=10
TZNAME:CET
TZOFFSETFROM:+0200
TZOFFSETTO:+0100
END:STANDARD
END:VTIMEZONE
END:VCALENDAR
