BEGIN:VCALENDAR
VERSION:2.0
PRODID:-//destination.one//NONSGML destination.meta API//DE
X-WR-CALDESC:A calendar powered by destination.meta
X-WR-CALNAME:bad-aibling Kalender via destination.meta
BEGIN:VEVENT
CATEGORIES:Brauchtum/Kultur
CATEGORIES:Konzert
DESCRIPTION:Bayerische Volksmusik live im Brunnenhof\, Kurpark Bad Aibling\
 n\nmehr Informationen unter http://pages.destination.one/de/bad-aibling/st
 reaming/detail/Event/e_101004506/volksmusik-im-brunnenhof-die-4-hinterberg
 er-musikanten
DTEND;TZID=Europe/Berlin:20240606T213000
DTSTAMP:20260424T090740Z
DTSTART;TZID=Europe/Berlin:20240606T190000
GEO:47.861243;12.009575
LOCATION:Kurhaus Bad Aibling\, Brunnenhof\, Wilhelm-Leibl-Platz 1\, Bad Aib
 ling
ORGANIZER;CN=AIB-KUR GmbH & Co. KG:mailto:info@aib-kur.de
SEQUENCE:0
SUMMARY:Volksmusik im Brunnenhof: Die 4 Hinterberger Musikanten
UID:e_101004506_iv0
URL:http://pages.destination.one/de/bad-aibling/streaming/detail/Event/e_10
 1004506/volksmusik-im-brunnenhof-die-4-hinterberger-musikanten
END:VEVENT
BEGIN:VEVENT
CATEGORIES:Brauchtum/Kultur
CATEGORIES:Konzert
DESCRIPTION:Bayerische Volksmusik live im Brunnenhof\, Kurpark Bad Aibling\
 n\nmehr Informationen unter http://pages.destination.one/de/bad-aibling/st
 reaming/detail/Event/e_101004506/volksmusik-im-brunnenhof-die-4-hinterberg
 er-musikanten
DTEND;TZID=Europe/Berlin:20240801T213000
DTSTAMP:20260424T090740Z
DTSTART;TZID=Europe/Berlin:20240801T190000
GEO:47.861243;12.009575
LOCATION:Kurhaus Bad Aibling\, Brunnenhof\, Wilhelm-Leibl-Platz 1\, Bad Aib
 ling
ORGANIZER;CN=AIB-KUR GmbH & Co. KG:mailto:info@aib-kur.de
SEQUENCE:0
SUMMARY:Volksmusik im Brunnenhof: Die 4 Hinterberger Musikanten
UID:e_101004506_iv1
URL:http://pages.destination.one/de/bad-aibling/streaming/detail/Event/e_10
 1004506/volksmusik-im-brunnenhof-die-4-hinterberger-musikanten
END:VEVENT
BEGIN:VEVENT
CATEGORIES:Brauchtum/Kultur
CATEGORIES:Konzert
DESCRIPTION:Bayerische Volksmusik live im Brunnenhof\, Kurpark Bad Aibling\
 n\nmehr Informationen unter http://pages.destination.one/de/bad-aibling/st
 reaming/detail/Event/e_101004506/volksmusik-im-brunnenhof-die-4-hinterberg
 er-musikanten
DTEND;TZID=Europe/Berlin:20240815T213000
DTSTAMP:20260424T090740Z
DTSTART;TZID=Europe/Berlin:20240815T190000
GEO:47.861243;12.009575
LOCATION:Kurhaus Bad Aibling\, Brunnenhof\, Wilhelm-Leibl-Platz 1\, Bad Aib
 ling
ORGANIZER;CN=AIB-KUR GmbH & Co. KG:mailto:info@aib-kur.de
SEQUENCE:0
SUMMARY:Volksmusik im Brunnenhof: Die 4 Hinterberger Musikanten
UID:e_101004506_iv2
URL:http://pages.destination.one/de/bad-aibling/streaming/detail/Event/e_10
 1004506/volksmusik-im-brunnenhof-die-4-hinterberger-musikanten
END:VEVENT
BEGIN:VEVENT
CATEGORIES:Brauchtum/Kultur
CATEGORIES:Konzert
DESCRIPTION:Bayerische Volksmusik live im Brunnenhof\, Kurpark Bad Aibling\
 n\nmehr Informationen unter http://pages.destination.one/de/bad-aibling/st
 reaming/detail/Event/e_101004506/volksmusik-im-brunnenhof-die-4-hinterberg
 er-musikanten
DTEND;TZID=Europe/Berlin:20250522T213000
DTSTAMP:20260424T090740Z
DTSTART;TZID=Europe/Berlin:20250522T190000
GEO:47.861243;12.009575
LOCATION:Kurhaus Bad Aibling\, Brunnenhof\, Wilhelm-Leibl-Platz 1\, Bad Aib
 ling
ORGANIZER;CN=AIB-KUR GmbH & Co. KG:mailto:info@aib-kur.de
SEQUENCE:0
SUMMARY:Volksmusik im Brunnenhof: Die 4 Hinterberger Musikanten
UID:e_101004506_iv3
URL:http://pages.destination.one/de/bad-aibling/streaming/detail/Event/e_10
 1004506/volksmusik-im-brunnenhof-die-4-hinterberger-musikanten
END:VEVENT
BEGIN:VEVENT
CATEGORIES:Brauchtum/Kultur
CATEGORIES:Konzert
DESCRIPTION:Bayerische Volksmusik live im Brunnenhof\, Kurpark Bad Aibling\
 n\nmehr Informationen unter http://pages.destination.one/de/bad-aibling/st
 reaming/detail/Event/e_101004506/volksmusik-im-brunnenhof-die-4-hinterberg
 er-musikanten
DTEND;TZID=Europe/Berlin:20250529T213000
DTSTAMP:20260424T090740Z
DTSTART;TZID=Europe/Berlin:20250529T190000
GEO:47.861243;12.009575
LOCATION:Kurhaus Bad Aibling\, Brunnenhof\, Wilhelm-Leibl-Platz 1\, Bad Aib
 ling
ORGANIZER;CN=AIB-KUR GmbH & Co. KG:mailto:info@aib-kur.de
SEQUENCE:0
SUMMARY:Volksmusik im Brunnenhof: Die 4 Hinterberger Musikanten
UID:e_101004506_iv4
URL:http://pages.destination.one/de/bad-aibling/streaming/detail/Event/e_10
 1004506/volksmusik-im-brunnenhof-die-4-hinterberger-musikanten
END:VEVENT
BEGIN:VEVENT
CATEGORIES:Brauchtum/Kultur
CATEGORIES:Konzert
DESCRIPTION:Bayerische Volksmusik live im Brunnenhof\, Kurpark Bad Aibling\
 n\nmehr Informationen unter http://pages.destination.one/de/bad-aibling/st
 reaming/detail/Event/e_101004506/volksmusik-im-brunnenhof-die-4-hinterberg
 er-musikanten
DTEND;TZID=Europe/Berlin:20250703T213000
DTSTAMP:20260424T090740Z
DTSTART;TZID=Europe/Berlin:20250703T190000
GEO:47.861243;12.009575
LOCATION:Kurhaus Bad Aibling\, Brunnenhof\, Wilhelm-Leibl-Platz 1\, Bad Aib
 ling
ORGANIZER;CN=AIB-KUR GmbH & Co. KG:mailto:info@aib-kur.de
SEQUENCE:0
SUMMARY:Volksmusik im Brunnenhof: Die 4 Hinterberger Musikanten
UID:e_101004506_iv5
URL:http://pages.destination.one/de/bad-aibling/streaming/detail/Event/e_10
 1004506/volksmusik-im-brunnenhof-die-4-hinterberger-musikanten
END:VEVENT
BEGIN:VEVENT
CATEGORIES:Brauchtum/Kultur
CATEGORIES:Konzert
DESCRIPTION:Bayerische Volksmusik live im Brunnenhof\, Kurpark Bad Aibling\
 n\nmehr Informationen unter http://pages.destination.one/de/bad-aibling/st
 reaming/detail/Event/e_101004506/volksmusik-im-brunnenhof-die-4-hinterberg
 er-musikanten
DTEND;TZID=Europe/Berlin:20250724T213000
DTSTAMP:20260424T090740Z
DTSTART;TZID=Europe/Berlin:20250724T190000
GEO:47.861243;12.009575
LOCATION:Kurhaus Bad Aibling\, Brunnenhof\, Wilhelm-Leibl-Platz 1\, Bad Aib
 ling
ORGANIZER;CN=AIB-KUR GmbH & Co. KG:mailto:info@aib-kur.de
SEQUENCE:0
SUMMARY:Volksmusik im Brunnenhof: Die 4 Hinterberger Musikanten
UID:e_101004506_iv6
URL:http://pages.destination.one/de/bad-aibling/streaming/detail/Event/e_10
 1004506/volksmusik-im-brunnenhof-die-4-hinterberger-musikanten
END:VEVENT
BEGIN:VEVENT
CATEGORIES:Brauchtum/Kultur
CATEGORIES:Konzert
DESCRIPTION:Bayerische Volksmusik live im Brunnenhof\, Kurpark Bad Aibling\
 n\nmehr Informationen unter http://pages.destination.one/de/bad-aibling/st
 reaming/detail/Event/e_101004506/volksmusik-im-brunnenhof-die-4-hinterberg
 er-musikanten
DTEND;TZID=Europe/Berlin:20250814T213000
DTSTAMP:20260424T090740Z
DTSTART;TZID=Europe/Berlin:20250814T190000
GEO:47.861243;12.009575
LOCATION:Kurhaus Bad Aibling\, Brunnenhof\, Wilhelm-Leibl-Platz 1\, Bad Aib
 ling
ORGANIZER;CN=AIB-KUR GmbH & Co. KG:mailto:info@aib-kur.de
SEQUENCE:0
SUMMARY:Volksmusik im Brunnenhof: Die 4 Hinterberger Musikanten
UID:e_101004506_iv7
URL:http://pages.destination.one/de/bad-aibling/streaming/detail/Event/e_10
 1004506/volksmusik-im-brunnenhof-die-4-hinterberger-musikanten
END:VEVENT
BEGIN:VEVENT
CATEGORIES:Brauchtum/Kultur
CATEGORIES:Konzert
DESCRIPTION:Bayerische Volksmusik live im Brunnenhof\, Kurpark Bad Aibling\
 n\nmehr Informationen unter http://pages.destination.one/de/bad-aibling/st
 reaming/detail/Event/e_101004506/volksmusik-im-brunnenhof-die-4-hinterberg
 er-musikanten
DTEND;TZID=Europe/Berlin:20260507T213000
DTSTAMP:20260424T090740Z
DTSTART;TZID=Europe/Berlin:20260507T190000
GEO:47.861243;12.009575
LOCATION:Kurhaus Bad Aibling\, Brunnenhof\, Wilhelm-Leibl-Platz 1\, Bad Aib
 ling
ORGANIZER;CN=AIB-KUR GmbH & Co. KG:mailto:info@aib-kur.de
SEQUENCE:0
SUMMARY:Volksmusik im Brunnenhof: Die 4 Hinterberger Musikanten
UID:e_101004506_iv8
URL:http://pages.destination.one/de/bad-aibling/streaming/detail/Event/e_10
 1004506/volksmusik-im-brunnenhof-die-4-hinterberger-musikanten
END:VEVENT
BEGIN:VEVENT
CATEGORIES:Brauchtum/Kultur
CATEGORIES:Konzert
DESCRIPTION:Bayerische Volksmusik live im Brunnenhof\, Kurpark Bad Aibling\
 n\nmehr Informationen unter http://pages.destination.one/de/bad-aibling/st
 reaming/detail/Event/e_101004506/volksmusik-im-brunnenhof-die-4-hinterberg
 er-musikanten
DTEND;TZID=Europe/Berlin:20260618T213000
DTSTAMP:20260424T090740Z
DTSTART;TZID=Europe/Berlin:20260618T190000
GEO:47.861243;12.009575
LOCATION:Kurhaus Bad Aibling\, Brunnenhof\, Wilhelm-Leibl-Platz 1\, Bad Aib
 ling
ORGANIZER;CN=AIB-KUR GmbH & Co. KG:mailto:info@aib-kur.de
SEQUENCE:0
SUMMARY:Volksmusik im Brunnenhof: Die 4 Hinterberger Musikanten
UID:e_101004506_iv9
URL:http://pages.destination.one/de/bad-aibling/streaming/detail/Event/e_10
 1004506/volksmusik-im-brunnenhof-die-4-hinterberger-musikanten
END:VEVENT
BEGIN:VEVENT
CATEGORIES:Brauchtum/Kultur
CATEGORIES:Konzert
DESCRIPTION:Bayerische Volksmusik live im Brunnenhof\, Kurpark Bad Aibling\
 n\nmehr Informationen unter http://pages.destination.one/de/bad-aibling/st
 reaming/detail/Event/e_101004506/volksmusik-im-brunnenhof-die-4-hinterberg
 er-musikanten
DTEND;TZID=Europe/Berlin:20260723T213000
DTSTAMP:20260424T090740Z
DTSTART;TZID=Europe/Berlin:20260723T190000
GEO:47.861243;12.009575
LOCATION:Kurhaus Bad Aibling\, Brunnenhof\, Wilhelm-Leibl-Platz 1\, Bad Aib
 ling
ORGANIZER;CN=AIB-KUR GmbH & Co. KG:mailto:info@aib-kur.de
SEQUENCE:0
SUMMARY:Volksmusik im Brunnenhof: Die 4 Hinterberger Musikanten
UID:e_101004506_iv10
URL:http://pages.destination.one/de/bad-aibling/streaming/detail/Event/e_10
 1004506/volksmusik-im-brunnenhof-die-4-hinterberger-musikanten
END:VEVENT
BEGIN:VEVENT
CATEGORIES:Brauchtum/Kultur
CATEGORIES:Konzert
DESCRIPTION:Bayerische Volksmusik live im Brunnenhof\, Kurpark Bad Aibling\
 n\nmehr Informationen unter http://pages.destination.one/de/bad-aibling/st
 reaming/detail/Event/e_101004506/volksmusik-im-brunnenhof-die-4-hinterberg
 er-musikanten
DTEND;TZID=Europe/Berlin:20260813T213000
DTSTAMP:20260424T090740Z
DTSTART;TZID=Europe/Berlin:20260813T190000
GEO:47.861243;12.009575
LOCATION:Kurhaus Bad Aibling\, Brunnenhof\, Wilhelm-Leibl-Platz 1\, Bad Aib
 ling
ORGANIZER;CN=AIB-KUR GmbH & Co. KG:mailto:info@aib-kur.de
SEQUENCE:0
SUMMARY:Volksmusik im Brunnenhof: Die 4 Hinterberger Musikanten
UID:e_101004506_iv11
URL:http://pages.destination.one/de/bad-aibling/streaming/detail/Event/e_10
 1004506/volksmusik-im-brunnenhof-die-4-hinterberger-musikanten
END:VEVENT
BEGIN:VTIMEZONE
TZID:Europe/Berlin
X-LIC-LOCATION:Europe/Berlin
BEGIN:DAYLIGHT
DTSTART:19700329T020000
RRULE:FREQ=YEARLY;BYDAY=-1SU;BYMONTH=3
TZNAME:CEST
TZOFFSETFROM:+0100
TZOFFSETTO:+0200
END:DAYLIGHT
BEGIN:STANDARD
DTSTART:19701025T030000
RRULE:FREQ=YEARLY;BYDAY=-1SU;BYMONTH=10
TZNAME:CET
TZOFFSETFROM:+0200
TZOFFSETTO:+0100
END:STANDARD
END:VTIMEZONE
END:VCALENDAR
