BEGIN:VCALENDAR
VERSION:2.0
PRODID:-//destination.one//NONSGML destination.meta API//DE
X-WR-CALDESC:A calendar powered by destination.meta
X-WR-CALNAME:bad-aibling Kalender via destination.meta
BEGIN:VEVENT
CATEGORIES:Führung/Besichtigung
DESCRIPTION:Ungezwungenes\, naturverbundenes Treffen im Garten Eden. Thema:
  "Wildkräuter im Garten Eden" mit Kräuterexpertin Melanie Kunert\, die ihr
  Fachwissen...\n\nmehr Informationen unter http://pages.destination.one/de
 /bad-aibling/streaming/detail/Event/94EF234F22FDCF11EC436ED2986516FA/garte
 n-eden-talk
DTEND;TZID=Europe/Berlin:20260505T190000
DTSTAMP:20260424T090612Z
DTSTART;TZID=Europe/Berlin:20260505T180000
GEO:47.862269;12.011813
LOCATION:Garten Eden\, Katharinenstrasse 1\, Bad Aibling
SEQUENCE:0
SUMMARY:Garten-Eden-Talk
UID:94EF234F22FDCF11EC436ED2986516FA_iv0
URL:http://pages.destination.one/de/bad-aibling/streaming/detail/Event/94EF
 234F22FDCF11EC436ED2986516FA/garten-eden-talk
END:VEVENT
BEGIN:VTIMEZONE
TZID:Europe/Berlin
X-LIC-LOCATION:Europe/Berlin
BEGIN:DAYLIGHT
DTSTART:19700329T020000
RRULE:FREQ=YEARLY;BYDAY=-1SU;BYMONTH=3
TZNAME:CEST
TZOFFSETFROM:+0100
TZOFFSETTO:+0200
END:DAYLIGHT
BEGIN:STANDARD
DTSTART:19701025T030000
RRULE:FREQ=YEARLY;BYDAY=-1SU;BYMONTH=10
TZNAME:CET
TZOFFSETFROM:+0200
TZOFFSETTO:+0100
END:STANDARD
END:VTIMEZONE
END:VCALENDAR
